BEGIN:VCALENDAR
VERSION:2.0
PRODID:-//ANDES - Association Nationale des Elus en charge du Sport - ECPv6.9.0//NONSGML v1.0//EN
CALSCALE:GREGORIAN
METHOD:PUBLISH
X-ORIGINAL-URL:https://andes.fr
X-WR-CALDESC:Évènements pour ANDES - Association Nationale des Elus en charge du Sport
REFRESH-INTERVAL;VALUE=DURATION:PT1H
X-Robots-Tag:noindex
X-PUBLISHED-TTL:PT1H
BEGIN:VTIMEZONE
TZID:Europe/Paris
BEGIN:DAYLIGHT
TZOFFSETFROM:+0100
TZOFFSETTO:+0200
TZNAME:CEST
DTSTART:20250330T010000
END:DAYLIGHT
BEGIN:STANDARD
TZOFFSETFROM:+0200
TZOFFSETTO:+0100
TZNAME:CET
DTSTART:20251026T010000
END:STANDARD
END:VTIMEZONE
BEGIN:VEVENT
DTSTART;TZID=Europe/Paris:20250311T090000
DTEND;TZID=Europe/Paris:20250311T100000
DTSTAMP:20260425T212429
CREATED:20240606T140609Z
LAST-MODIFIED:20240606T140609Z
UID:10298857-1741683600-1741687200@andes.fr
SUMMARY:Matinales ANDES sur "La mise en accessibilité de ses équipements: acteurs\, législations\, financements"
DESCRIPTION:
URL:https://andes.fr/agenda/matinales-andes-sur-la-mise-en-accessibilite-de-ses-equipements-acteurs-legislations-financements/
LOCATION:VISIO
END:VEVENT
BEGIN:VEVENT
DTSTART;TZID=Europe/Paris:20250311T093000
DTEND;TZID=Europe/Paris:20250311T160000
DTSTAMP:20260425T212429
CREATED:20241104T134244Z
LAST-MODIFIED:20250108T134842Z
UID:10299823-1741685400-1741708800@andes.fr
SUMMARY:Cycle de formation ANDES / OLBIA S1 "Acteurs et gouvernance du sport"
DESCRIPTION:
URL:https://andes.fr/agenda/cycle-de-formation-andes-olbia-s1-acteurs-et-gouvernance-du-sport/
LOCATION:PARIS
END:VEVENT
END:VCALENDAR