BEGIN:VCALENDAR
VERSION:2.0
PRODID:-//ANDES - Association Nationale des Elus en charge du Sport - ECPv6.9.0//NONSGML v1.0//EN
CALSCALE:GREGORIAN
METHOD:PUBLISH
X-WR-CALNAME:ANDES - Association Nationale des Elus en charge du Sport
X-ORIGINAL-URL:https://andes.fr
X-WR-CALDESC:Évènements pour ANDES - Association Nationale des Elus en charge du Sport
REFRESH-INTERVAL;VALUE=DURATION:PT1H
X-Robots-Tag:noindex
X-PUBLISHED-TTL:PT1H
BEGIN:VTIMEZONE
TZID:Europe/Paris
BEGIN:DAYLIGHT
TZOFFSETFROM:+0100
TZOFFSETTO:+0200
TZNAME:CEST
DTSTART:20250330T010000
END:DAYLIGHT
BEGIN:STANDARD
TZOFFSETFROM:+0200
TZOFFSETTO:+0100
TZNAME:CET
DTSTART:20251026T010000
END:STANDARD
END:VTIMEZONE
BEGIN:VEVENT
DTSTART;TZID=Europe/Paris:20250326T090000
DTEND;TZID=Europe/Paris:20250326T170000
DTSTAMP:20260422T201930
CREATED:20241104T132843Z
LAST-MODIFIED:20250210T095037Z
UID:10299802-1742979600-1743008400@andes.fr
SUMMARY:Formation ANDES / HGI ATD sur "Développer une politique Sport-Santé sur son territoire"
DESCRIPTION:
URL:https://andes.fr/agenda/formation-andes-hgi-atd-sur-developper-une-politique-sport-sante-sur-son-territoire/
LOCATION:PECHBONNIEU
END:VEVENT
END:VCALENDAR