BEGIN:VCALENDAR
VERSION:2.0
PRODID:-//ANDES - Association Nationale des Elus en charge du Sport - ECPv6.9.0//NONSGML v1.0//EN
CALSCALE:GREGORIAN
METHOD:PUBLISH
X-ORIGINAL-URL:https://andes.fr
X-WR-CALDESC:Évènements pour ANDES - Association Nationale des Elus en charge du Sport
REFRESH-INTERVAL;VALUE=DURATION:PT1H
X-Robots-Tag:noindex
X-PUBLISHED-TTL:PT1H
BEGIN:VTIMEZONE
TZID:Europe/Paris
BEGIN:DAYLIGHT
TZOFFSETFROM:+0100
TZOFFSETTO:+0200
TZNAME:CEST
DTSTART:20250330T010000
END:DAYLIGHT
BEGIN:STANDARD
TZOFFSETFROM:+0200
TZOFFSETTO:+0100
TZNAME:CET
DTSTART:20251026T010000
END:STANDARD
END:VTIMEZONE
BEGIN:VEVENT
DTSTART;TZID=Europe/Paris:20250328T093000
DTEND;TZID=Europe/Paris:20250328T140000
DTSTAMP:20260422T173534
CREATED:20250224T140357Z
LAST-MODIFIED:20250224T142358Z
UID:10300553-1743154200-1743170400@andes.fr
SUMMARY:Semaine du réseau ANDES Région Nouvelle Aquitaine
DESCRIPTION:
URL:https://andes.fr/agenda/semaine-du-reseau-andes-region-nouvelle-aquitaine/
LOCATION:LIBOURNE
END:VEVENT
END:VCALENDAR