BEGIN:VCALENDAR
VERSION:2.0
PRODID:-//ANDES - Association Nationale des Elus en charge du Sport - ECPv6.9.0//NONSGML v1.0//EN
CALSCALE:GREGORIAN
METHOD:PUBLISH
X-WR-CALNAME:ANDES - Association Nationale des Elus en charge du Sport
X-ORIGINAL-URL:https://andes.fr
X-WR-CALDESC:Évènements pour ANDES - Association Nationale des Elus en charge du Sport
REFRESH-INTERVAL;VALUE=DURATION:PT1H
X-Robots-Tag:noindex
X-PUBLISHED-TTL:PT1H
BEGIN:VTIMEZONE
TZID:Europe/Paris
BEGIN:DAYLIGHT
TZOFFSETFROM:+0100
TZOFFSETTO:+0200
TZNAME:CEST
DTSTART:20250330T010000
END:DAYLIGHT
BEGIN:STANDARD
TZOFFSETFROM:+0200
TZOFFSETTO:+0100
TZNAME:CET
DTSTART:20251026T010000
END:STANDARD
END:VTIMEZONE
BEGIN:VEVENT
DTSTART;TZID=Europe/Paris:20251209T090000
DTEND;TZID=Europe/Paris:20251209T100000
DTSTAMP:20260422T214401
CREATED:20250717T083734Z
LAST-MODIFIED:20251031T115601Z
UID:10301717-1765270800-1765274400@andes.fr
SUMMARY:Matinales ANDES sur "La présentation de l’observatoire de l’économie du Sport"
DESCRIPTION:
URL:https://andes.fr/agenda/matinales-andes-sur-relation-associations-collectivites-criteres-de-subvention-concertations-des-acteurs/
LOCATION:VISIO
END:VEVENT
END:VCALENDAR