BEGIN:VCALENDAR
VERSION:2.0
PRODID:-//ANDES - Association Nationale des Elus en charge du Sport - ECPv6.9.0//NONSGML v1.0//EN
CALSCALE:GREGORIAN
METHOD:PUBLISH
X-WR-CALNAME:ANDES - Association Nationale des Elus en charge du Sport
X-ORIGINAL-URL:https://andes.fr
X-WR-CALDESC:Évènements pour ANDES - Association Nationale des Elus en charge du Sport
REFRESH-INTERVAL;VALUE=DURATION:PT1H
X-Robots-Tag:noindex
X-PUBLISHED-TTL:PT1H
BEGIN:VTIMEZONE
TZID:Europe/Paris
BEGIN:DAYLIGHT
TZOFFSETFROM:+0100
TZOFFSETTO:+0200
TZNAME:CEST
DTSTART:20260329T010000
END:DAYLIGHT
BEGIN:STANDARD
TZOFFSETFROM:+0200
TZOFFSETTO:+0100
TZNAME:CET
DTSTART:20261025T010000
END:STANDARD
END:VTIMEZONE
BEGIN:VEVENT
DTSTART;TZID=Europe/Paris:20260512T090000
DTEND;TZID=Europe/Paris:20260512T100000
DTSTAMP:20260425T141944
CREATED:20260424T084027Z
LAST-MODIFIED:20260424T084147Z
UID:10303053-1778576400-1778580000@andes.fr
SUMMARY:Matinales ANDES sur "les sources de financements"
DESCRIPTION:
URL:https://andes.fr/agenda/matinales-andes-sur-les-sources-de-financements/
LOCATION:VISIO
END:VEVENT
END:VCALENDAR