BEGIN:VCALENDAR
VERSION:2.0
PRODID:-//ANDES - Association Nationale des Elus en charge du Sport - ECPv6.9.0//NONSGML v1.0//EN
CALSCALE:GREGORIAN
METHOD:PUBLISH
X-WR-CALNAME:ANDES - Association Nationale des Elus en charge du Sport
X-ORIGINAL-URL:https://andes.fr
X-WR-CALDESC:Évènements pour ANDES - Association Nationale des Elus en charge du Sport
REFRESH-INTERVAL;VALUE=DURATION:PT1H
X-Robots-Tag:noindex
X-PUBLISHED-TTL:PT1H
BEGIN:VTIMEZONE
TZID:Europe/Paris
BEGIN:DAYLIGHT
TZOFFSETFROM:+0100
TZOFFSETTO:+0200
TZNAME:CEST
DTSTART:20250330T010000
END:DAYLIGHT
BEGIN:STANDARD
TZOFFSETFROM:+0200
TZOFFSETTO:+0100
TZNAME:CET
DTSTART:20251026T010000
END:STANDARD
END:VTIMEZONE
BEGIN:VEVENT
DTSTART;TZID=Europe/Paris:20250401T170000
DTEND;TZID=Europe/Paris:20250401T193000
DTSTAMP:20260422T102847
CREATED:20241104T134654Z
LAST-MODIFIED:20250108T134801Z
UID:10299825-1743526800-1743535800@andes.fr
SUMMARY:Cycle de formation ANDES / OLBIA S2 "Sport de haut niveau"
DESCRIPTION:
URL:https://andes.fr/agenda/cycle-de-formation-andes-olbia-s2-sport-de-haut-niveau/
LOCATION:VISIO
END:VEVENT
BEGIN:VEVENT
DTSTART;TZID=Europe/Paris:20250407T080000
DTEND;TZID=Europe/Paris:20250407T080000
DTSTAMP:20260422T102847
CREATED:20241210T144636Z
LAST-MODIFIED:20241210T144636Z
UID:10300061-1744012800-1744012800@andes.fr
SUMMARY:Fin des candidatures du Label Ville Active et Sportive
DESCRIPTION:
URL:https://andes.fr/agenda/fin-des-candidatures-du-label-ville-active-et-sportive/
END:VEVENT
BEGIN:VEVENT
DTSTART;TZID=Europe/Paris:20250410T100000
DTEND;TZID=Europe/Paris:20250410T160000
DTSTAMP:20260422T102847
CREATED:20241104T132952Z
LAST-MODIFIED:20250319T081850Z
UID:10299805-1744279200-1744300800@andes.fr
SUMMARY:Formation ANDES sur "Quelles sources de financements pour mes équipements sportifs en 2025"
DESCRIPTION:
URL:https://andes.fr/agenda/formation-andes-sur-quelles-sources-de-financements-pour-mes-equipements-sportifs-en-2025-2/
LOCATION:Privé : BALMA
END:VEVENT
BEGIN:VEVENT
DTSTART;TZID=Europe/Paris:20250415T090000
DTEND;TZID=Europe/Paris:20250415T100000
DTSTAMP:20260422T102847
CREATED:20250117T090104Z
LAST-MODIFIED:20250321T100729Z
UID:10300213-1744707600-1744711200@andes.fr
SUMMARY:Matinales ANDES sur "Sport en milieu professionnel : pour des agents en mouvement"
DESCRIPTION:
URL:https://andes.fr/agenda/matinales-andes-sur-sport-en-milieu-pro-pour-des-agents-en-mouvement/
LOCATION:VISIO
END:VEVENT
BEGIN:VEVENT
DTSTART;TZID=Europe/Paris:20250415T170000
DTEND;TZID=Europe/Paris:20250415T193000
DTSTAMP:20260422T102848
CREATED:20241104T133118Z
LAST-MODIFIED:20250310T141155Z
UID:10299807-1744736400-1744745400@andes.fr
SUMMARY:Formation ANDES sur "Repenser la relation entre la collectivité et ses clubs locaux"
DESCRIPTION:
URL:https://andes.fr/agenda/formation-andes-sur-repenser-la-relation-entre-la-collectivite-et-ses-clubs-locaux-reserve-aux-outre-mer/
LOCATION:VISIO
END:VEVENT
BEGIN:VEVENT
DTSTART;TZID=Europe/Paris:20250417T090000
DTEND;TZID=Europe/Paris:20250417T170000
DTSTAMP:20260422T102848
CREATED:20241031T140549Z
LAST-MODIFIED:20241031T140549Z
UID:10299727-1744880400-1744909200@andes.fr
SUMMARY:Comité Directeur ANDES
DESCRIPTION:
URL:https://andes.fr/agenda/comite-directeur-andes-11/
LOCATION:PARIS\, 5 rue de Valois\, 75001
END:VEVENT
BEGIN:VEVENT
DTSTART;TZID=Europe/Paris:20250423T100000
DTEND;TZID=Europe/Paris:20250423T160000
DTSTAMP:20260422T102848
CREATED:20241104T133304Z
LAST-MODIFIED:20250310T141244Z
UID:10299809-1745402400-1745424000@andes.fr
SUMMARY:Formation ANDES sur "Définir son projet politique sportif : du diagnostic à a construction de son argumentaire"
DESCRIPTION:
URL:https://andes.fr/agenda/formation-andes-sur-definir-son-projet-politique-sportif-du-diagnostic-a-a-construction-de-son-argumentaire/
LOCATION:ROMANS SUR ISERE
END:VEVENT
BEGIN:VEVENT
DTSTART;TZID=Europe/Paris:20250429T170000
DTEND;TZID=Europe/Paris:20250429T193000
DTSTAMP:20260422T102848
CREATED:20241104T134755Z
LAST-MODIFIED:20250108T134913Z
UID:10299828-1745946000-1745955000@andes.fr
SUMMARY:Cycle de formation ANDES / OLBIA S3 "Projet sportif territorial"
DESCRIPTION:
URL:https://andes.fr/agenda/cycle-de-formation-andes-olbia-s3-projet-sportif-territorial/
LOCATION:VISIO
END:VEVENT
END:VCALENDAR