BEGIN:VCALENDAR
VERSION:2.0
PRODID:-//ANDES - Association Nationale des Elus en charge du Sport - ECPv6.9.0//NONSGML v1.0//EN
CALSCALE:GREGORIAN
METHOD:PUBLISH
X-WR-CALNAME:ANDES - Association Nationale des Elus en charge du Sport
X-ORIGINAL-URL:https://andes.fr
X-WR-CALDESC:Évènements pour ANDES - Association Nationale des Elus en charge du Sport
REFRESH-INTERVAL;VALUE=DURATION:PT1H
X-Robots-Tag:noindex
X-PUBLISHED-TTL:PT1H
BEGIN:VTIMEZONE
TZID:Europe/Paris
BEGIN:DAYLIGHT
TZOFFSETFROM:+0100
TZOFFSETTO:+0200
TZNAME:CEST
DTSTART:20250330T010000
END:DAYLIGHT
BEGIN:STANDARD
TZOFFSETFROM:+0200
TZOFFSETTO:+0100
TZNAME:CET
DTSTART:20251026T010000
END:STANDARD
END:VTIMEZONE
BEGIN:VEVENT
DTSTART;TZID=Europe/Paris:20250513T090000
DTEND;TZID=Europe/Paris:20250513T100000
DTSTAMP:20260422T101710
CREATED:20250117T090319Z
LAST-MODIFIED:20250117T090319Z
UID:10300215-1747126800-1747130400@andes.fr
SUMMARY:Matinales ANDES sur "Le Projet sportif local"
DESCRIPTION:
URL:https://andes.fr/agenda/matinales-andes-sur-le-projet-sportif-local/
LOCATION:VISIO
END:VEVENT
BEGIN:VEVENT
DTSTART;TZID=Europe/Paris:20250515T080000
DTEND;TZID=Europe/Paris:20250516T170000
DTSTAMP:20260422T101710
CREATED:20241031T140957Z
LAST-MODIFIED:20241031T140957Z
UID:10299729-1747296000-1747414800@andes.fr
SUMMARY:Congrès ANDES
DESCRIPTION:
URL:https://andes.fr/agenda/congres-andes-4/
LOCATION:LIMOGES
END:VEVENT
BEGIN:VEVENT
DTSTART;TZID=Europe/Paris:20250517T093000
DTEND;TZID=Europe/Paris:20250517T120000
DTSTAMP:20260422T101710
CREATED:20241104T133413Z
LAST-MODIFIED:20241104T133413Z
UID:10299812-1747474200-1747483200@andes.fr
SUMMARY:Formation ANDES sur "Améliorer sa communication politique et prise de parole en public"
DESCRIPTION:
URL:https://andes.fr/agenda/formation-andes-sur-ameliorer-sa-communication-politique-et-prise-de-parole-en-public/
LOCATION:LIMOGES
END:VEVENT
BEGIN:VEVENT
DTSTART;TZID=Europe/Paris:20250520T170000
DTEND;TZID=Europe/Paris:20250520T193000
DTSTAMP:20260422T101710
CREATED:20241104T135021Z
LAST-MODIFIED:20250108T134943Z
UID:10299830-1747760400-1747769400@andes.fr
SUMMARY:Cycle de formation ANDES / OLBIA S4 "Financement et modèle économique"
DESCRIPTION:
URL:https://andes.fr/agenda/cycle-de-formation-andes-olbia-s4-financement-et-modele-economique/
LOCATION:VISIO
END:VEVENT
END:VCALENDAR