BEGIN:VCALENDAR
VERSION:2.0
PRODID:-//ANDES - Association Nationale des Elus en charge du Sport - ECPv6.9.0//NONSGML v1.0//EN
CALSCALE:GREGORIAN
METHOD:PUBLISH
X-ORIGINAL-URL:https://andes.fr
X-WR-CALDESC:Évènements pour ANDES - Association Nationale des Elus en charge du Sport
REFRESH-INTERVAL;VALUE=DURATION:PT1H
X-Robots-Tag:noindex
X-PUBLISHED-TTL:PT1H
BEGIN:VTIMEZONE
TZID:Europe/Paris
BEGIN:DAYLIGHT
TZOFFSETFROM:+0100
TZOFFSETTO:+0200
TZNAME:CEST
DTSTART:20250330T010000
END:DAYLIGHT
BEGIN:STANDARD
TZOFFSETFROM:+0200
TZOFFSETTO:+0100
TZNAME:CET
DTSTART:20251026T010000
END:STANDARD
END:VTIMEZONE
BEGIN:VEVENT
DTSTART;TZID=Europe/Paris:20251104T090000
DTEND;TZID=Europe/Paris:20251104T100000
DTSTAMP:20260422T214447
CREATED:20250717T083440Z
LAST-MODIFIED:20251027T140649Z
UID:10301715-1762246800-1762250400@andes.fr
SUMMARY:Matinales ANDES sur "Équipements tennistiques & collectivités : booster le padel sur vos territoires !"
DESCRIPTION:
URL:https://andes.fr/agenda/matinales-andes-sur-les-sports-de-nature/
LOCATION:VISIO
END:VEVENT
BEGIN:VEVENT
DTSTART;TZID=Europe/Paris:20251117T090000
DTEND;TZID=Europe/Paris:20251117T170000
DTSTAMP:20260422T214447
CREATED:20241031T142002Z
LAST-MODIFIED:20241031T142554Z
UID:10299737-1763370000-1763398800@andes.fr
SUMMARY:Comité Directeur ANDES (Date et horaires a confirmer)
DESCRIPTION:
URL:https://andes.fr/agenda/comite-directeur-andes-date-et-horaires-a-confirmer/
LOCATION:PARIS\, 47\, rue de la Victoire\, Paris
END:VEVENT
BEGIN:VEVENT
DTSTART;TZID=Europe/Paris:20251118T090000
DTEND;TZID=Europe/Paris:20251120T170000
DTSTAMP:20260422T214447
CREATED:20231220T135808Z
LAST-MODIFIED:20251016T083448Z
UID:10296481-1763456400-1763658000@andes.fr
SUMMARY:Salon des Maires et des Collectivités Locales
DESCRIPTION:
URL:https://andes.fr/agenda/salon-des-maires-et-des-collectivites-locales-2/
LOCATION:PARIS
END:VEVENT
BEGIN:VEVENT
DTSTART;TZID=Europe/Paris:20251125T140000
DTEND;TZID=Europe/Paris:20251125T170000
DTSTAMP:20260422T214447
CREATED:20250526T084827Z
LAST-MODIFIED:20250915T082657Z
UID:10301466-1764079200-1764090000@andes.fr
SUMMARY:Formation ANDES sur " Quels financements pour mes équipements  sportifs"
DESCRIPTION:
URL:https://andes.fr/agenda/formation-andes-sur-quels-financements-pour-mes-equipements-sportifs/
LOCATION:VISIO
END:VEVENT
END:VCALENDAR