BEGIN:VCALENDAR
VERSION:2.0
PRODID:-//ANDES - Association Nationale des Elus en charge du Sport - ECPv6.9.0//NONSGML v1.0//EN
CALSCALE:GREGORIAN
METHOD:PUBLISH
X-ORIGINAL-URL:https://andes.fr
X-WR-CALDESC:Évènements pour ANDES - Association Nationale des Elus en charge du Sport
REFRESH-INTERVAL;VALUE=DURATION:PT1H
X-Robots-Tag:noindex
X-PUBLISHED-TTL:PT1H
BEGIN:VTIMEZONE
TZID:Europe/Paris
BEGIN:DAYLIGHT
TZOFFSETFROM:+0100
TZOFFSETTO:+0200
TZNAME:CEST
DTSTART:20260329T010000
END:DAYLIGHT
BEGIN:STANDARD
TZOFFSETFROM:+0200
TZOFFSETTO:+0100
TZNAME:CET
DTSTART:20261025T010000
END:STANDARD
END:VTIMEZONE
BEGIN:VEVENT
DTSTART;TZID=Europe/Paris:20260609T100000
DTEND;TZID=Europe/Paris:20260609T160000
DTSTAMP:20260422T170354
CREATED:20260416T130503Z
LAST-MODIFIED:20260416T130503Z
UID:10302904-1780999200-1781020800@andes.fr
SUMMARY:Formation ANDES sur "Les sources de financements pour mes équipements sportifs"
DESCRIPTION:
URL:https://andes.fr/agenda/formation-andes-sur-les-sources-de-financements-pour-mes-equipements-sportifs/
LOCATION:SAINT QUENTIN
END:VEVENT
BEGIN:VEVENT
DTSTART;TZID=Europe/Paris:20260611T080000
DTEND;TZID=Europe/Paris:20260611T170000
DTSTAMP:20260422T170354
CREATED:20260416T130708Z
LAST-MODIFIED:20260416T130708Z
UID:10302906-1781164800-1781197200@andes.fr
SUMMARY:Session de lancement du cycle de formation ANDES / OLBIA
DESCRIPTION:
URL:https://andes.fr/agenda/session-de-lancement-du-cycle-de-formation-andes-olbia/
LOCATION:VISIO
END:VEVENT
BEGIN:VEVENT
DTSTART;TZID=Europe/Paris:20260617T080000
DTEND;TZID=Europe/Paris:20260617T170000
DTSTAMP:20260422T170354
CREATED:20260416T130820Z
LAST-MODIFIED:20260416T130820Z
UID:10302908-1781683200-1781715600@andes.fr
SUMMARY:Session de formation n°1 ANDES/OLBIA sur "Acteurs et gouvernance du sport en France"
DESCRIPTION:
URL:https://andes.fr/agenda/session-de-formation-n1-andes-olbia-sur-acteurs-et-gouvernance-du-sport-en-france/
LOCATION:PARIS\, 47\, rue de la Victoire\, Paris
END:VEVENT
BEGIN:VEVENT
DTSTART;TZID=Europe/Paris:20260625T100000
DTEND;TZID=Europe/Paris:20260625T170000
DTSTAMP:20260422T170354
CREATED:20260416T130921Z
LAST-MODIFIED:20260416T130921Z
UID:10302910-1782381600-1782406800@andes.fr
SUMMARY:Assemblée Générale Ordinaire de l'ANDES
DESCRIPTION:
URL:https://andes.fr/agenda/assemblee-generale-ordinaire-de-landes/
LOCATION:VISIO
END:VEVENT
END:VCALENDAR