BEGIN:VCALENDAR
VERSION:2.0
PRODID:-//ANDES - Association Nationale des Elus en charge du Sport - ECPv6.9.0//NONSGML v1.0//EN
CALSCALE:GREGORIAN
METHOD:PUBLISH
X-ORIGINAL-URL:https://andes.fr
X-WR-CALDESC:Évènements pour ANDES - Association Nationale des Elus en charge du Sport
REFRESH-INTERVAL;VALUE=DURATION:PT1H
X-Robots-Tag:noindex
X-PUBLISHED-TTL:PT1H
BEGIN:VTIMEZONE
TZID:Europe/Paris
BEGIN:DAYLIGHT
TZOFFSETFROM:+0100
TZOFFSETTO:+0200
TZNAME:CEST
DTSTART:20260329T010000
END:DAYLIGHT
BEGIN:STANDARD
TZOFFSETFROM:+0200
TZOFFSETTO:+0100
TZNAME:CET
DTSTART:20261025T010000
END:STANDARD
END:VTIMEZONE
BEGIN:VEVENT
DTSTART;TZID=Europe/Paris:20261103T160000
DTEND;TZID=Europe/Paris:20261103T190000
DTSTAMP:20260423T000446
CREATED:20260416T133613Z
LAST-MODIFIED:20260416T133613Z
UID:10302934-1793721600-1793732400@andes.fr
SUMMARY:Formation ANDES sur "Les sources de financements pour mes équipements sportifs" RESERVEE OUTRE-MER
DESCRIPTION:
URL:https://andes.fr/agenda/formation-andes-sur-les-sources-de-financements-pour-mes-equipements-sportifs-reservee-outre-mer/
LOCATION:VISIO
END:VEVENT
BEGIN:VEVENT
DTSTART;TZID=Europe/Paris:20261104T080000
DTEND;TZID=Europe/Paris:20261104T170000
DTSTAMP:20260423T000446
CREATED:20260416T133738Z
LAST-MODIFIED:20260416T133738Z
UID:10302936-1793779200-1793811600@andes.fr
SUMMARY:Session de formation n°4 ANDES/OLBIA sur "Sport professionnel et de Haut niveau"
DESCRIPTION:
URL:https://andes.fr/agenda/session-de-formation-n4-andes-olbia-sur-sport-professionnel-et-de-haut-niveau/
LOCATION:VISIO
END:VEVENT
BEGIN:VEVENT
DTSTART;TZID=Europe/Paris:20261116T100000
DTEND;TZID=Europe/Paris:20261116T160000
DTSTAMP:20260423T000446
CREATED:20260416T133839Z
LAST-MODIFIED:20260416T133839Z
UID:10302938-1794823200-1794844800@andes.fr
SUMMARY:Comité Directeur ANDES
DESCRIPTION:
URL:https://andes.fr/agenda/comite-directeur-andes-18/
LOCATION:PARIS\, 47\, rue de la Victoire\, Paris
END:VEVENT
BEGIN:VEVENT
DTSTART;TZID=Europe/Paris:20261118T100000
DTEND;TZID=Europe/Paris:20261118T160000
DTSTAMP:20260423T000446
CREATED:20260416T134013Z
LAST-MODIFIED:20260416T134013Z
UID:10302940-1794996000-1795017600@andes.fr
SUMMARY:Formation ANDES sur "Développer une politique de sport-santé"
DESCRIPTION:
URL:https://andes.fr/agenda/formation-andes-sur-developper-une-politique-de-sport-sante/
LOCATION:ARLES
END:VEVENT
BEGIN:VEVENT
DTSTART;TZID=Europe/Paris:20261126T080000
DTEND;TZID=Europe/Paris:20261126T170000
DTSTAMP:20260423T000446
CREATED:20260416T134117Z
LAST-MODIFIED:20260416T134313Z
UID:10302943-1795680000-1795712400@andes.fr
SUMMARY:Session de formation n°5 ANDES/OLBIA sur "Equipements sportifs et espace public"
DESCRIPTION:
URL:https://andes.fr/agenda/session-de-formation-n5-andes-olbia-sur-equipements-sportifs-et-espace-public/
LOCATION:VISIO
END:VEVENT
END:VCALENDAR