BEGIN:VCALENDAR
VERSION:2.0
PRODID:-//ANDES - Association Nationale des Elus en charge du Sport - ECPv6.9.0//NONSGML v1.0//EN
CALSCALE:GREGORIAN
METHOD:PUBLISH
X-ORIGINAL-URL:https://andes.fr
X-WR-CALDESC:Évènements pour ANDES - Association Nationale des Elus en charge du Sport
REFRESH-INTERVAL;VALUE=DURATION:PT1H
X-Robots-Tag:noindex
X-PUBLISHED-TTL:PT1H
BEGIN:VTIMEZONE
TZID:Europe/Paris
BEGIN:DAYLIGHT
TZOFFSETFROM:+0100
TZOFFSETTO:+0200
TZNAME:CEST
DTSTART:20260329T010000
END:DAYLIGHT
BEGIN:STANDARD
TZOFFSETFROM:+0200
TZOFFSETTO:+0100
TZNAME:CET
DTSTART:20261025T010000
END:STANDARD
END:VTIMEZONE
BEGIN:VEVENT
DTSTART;TZID=Europe/Paris:20261209T120000
DTEND;TZID=Europe/Paris:20261209T170000
DTSTAMP:20260423T013923
CREATED:20260416T134246Z
LAST-MODIFIED:20260416T134246Z
UID:10302946-1796817600-1796835600@andes.fr
SUMMARY:Session de formation n°6 ANDES/OLBIA sur "Les évènements sportifs""
DESCRIPTION:
URL:https://andes.fr/agenda/session-de-formation-n6-andes-olbia-sur-les-evenements-sportifs/
LOCATION:VISIO
END:VEVENT
END:VCALENDAR